BEGIN:VCALENDAR
PRODID:-//www.nzohna.org.nz//EN
VERSION:2.0
METHOD:PUBLISH
BEGIN:VEVENT
DTSTART;TZID=Pacific/Auckland:20190426T163000
DTEND;TZID=Pacific/Auckland:20190426T173000
URL:https://www.nzohna.org.nz/new-calendar-event/nzohna-committee-meeting-via-zoom/
SUMMARY:NZOHNA Committee Meeting (via Zoom)
END:VEVENT
END:VCALENDAR