BEGIN:VCALENDAR
PRODID:-//www.nzohna.org.nz//EN
VERSION:2.0
METHOD:PUBLISH
BEGIN:VEVENT
DTSTART;TZID=Pacific/Auckland:20190325T080000
DTEND;TZID=Pacific/Auckland:20190326T170000
URL:https://www.nzohna.org.nz/new-calendar-event/workplaces-and-workforces-of-the-future-conference-2/
SUMMARY:Safety 360
END:VEVENT
END:VCALENDAR