BEGIN:VCALENDAR
PRODID:-//www.nzohna.org.nz//EN
VERSION:2.0
METHOD:PUBLISH
BEGIN:VEVENT
DTSTART;TZID=Pacific/Auckland:20190220T080000
DTEND;TZID=Pacific/Auckland:20190221T170000
URL:https://www.nzohna.org.nz/new-calendar-event/workplaces-and-workforces-of-the-future-conference/
SUMMARY:Workplaces and Workforces of the Future Conference
END:VEVENT
END:VCALENDAR