BEGIN:VCALENDAR
PRODID:-//www.nzohna.org.nz//EN
VERSION:2.0
METHOD:PUBLISH
BEGIN:VEVENT
DTSTART;TZID=Pacific/Auckland:20181105T090000
DTEND;TZID=Pacific/Auckland:20181109T170000
URL:https://www.nzohna.org.nz/new-calendar-event/professional-certificate-in-strategic-health-planning/
SUMMARY:Professional Certificate in Strategic Health Planning
END:VEVENT
END:VCALENDAR