BEGIN:VCALENDAR
PRODID:-//www.nzohna.org.nz//EN
VERSION:2.0
METHOD:PUBLISH
BEGIN:VEVENT
DTSTART;TZID=Pacific/Auckland:20181025T120000
DTEND;TZID=Pacific/Auckland:20181025T130000
URL:https://www.nzohna.org.nz/new-calendar-event/define-digital-strategies-to-transform-your-hse-programs/
SUMMARY:Define digital strategies to transform your HSE programs
END:VEVENT
END:VCALENDAR