BEGIN:VCALENDAR
PRODID:-//www.nzohna.org.nz//EN
VERSION:2.0
METHOD:PUBLISH
BEGIN:VEVENT
DTSTART;TZID=Pacific/Auckland:20181205T080000
DTEND;TZID=Pacific/Auckland:20181207T170000
URL:https://www.nzohna.org.nz/new-calendar-event/women-in-leadership-wellington/
SUMMARY:Women In Leadership - Wellington
END:VEVENT
END:VCALENDAR