BEGIN:VCALENDAR
PRODID:-//www.nzohna.org.nz//EN
VERSION:2.0
METHOD:PUBLISH
BEGIN:VEVENT
DTSTART;TZID=Pacific/Auckland:20181127T080000
DTEND;TZID=Pacific/Auckland:20181127T170000
URL:https://www.nzohna.org.nz/new-calendar-event/health-work-conference-2018-the-heart-of-good-business/
SUMMARY:Healthy Work Conference 2018 - The Heart of Good Business
END:VEVENT
END:VCALENDAR