BEGIN:VCALENDAR
PRODID:-//www.nzohna.org.nz//EN
VERSION:2.0
METHOD:PUBLISH
BEGIN:VEVENT
DTSTART;TZID=Pacific/Auckland:20181017T080000
DTEND;TZID=Pacific/Auckland:20181017T170000
URL:https://www.nzohna.org.nz/new-calendar-event/legalsafe-health-and-safety-law-conference/
SUMMARY:LegalSafe Health and Safety Law Conference
END:VEVENT
END:VCALENDAR