BEGIN:VCALENDAR
PRODID:-//www.nzohna.org.nz//EN
VERSION:2.0
METHOD:PUBLISH
BEGIN:VEVENT
DTSTART;TZID=Pacific/Auckland:20181108T080000
DTEND;TZID=Pacific/Auckland:20181109T170000
URL:https://www.nzohna.org.nz/new-calendar-event/nzbef-and-nzoq-performance-excellence-conference/
SUMMARY:NZBEF & NZOQ Performance Excellence Conference
END:VEVENT
END:VCALENDAR