BEGIN:VCALENDAR
PRODID:-//www.nzohna.org.nz//EN
VERSION:2.0
METHOD:PUBLISH
BEGIN:VEVENT
DTSTART;TZID=Pacific/Auckland:20180927T133000
DTEND;TZID=Pacific/Auckland:20180927T143000
URL:https://www.nzohna.org.nz/new-calendar-event/webinar-mental-wellbeing-and-reilience/
SUMMARY:Webinar - Mental Wellbeing and Resilience
END:VEVENT
END:VCALENDAR