BEGIN:VCALENDAR
PRODID:-//www.nzohna.org.nz//EN
VERSION:2.0
METHOD:PUBLISH
BEGIN:VEVENT
DTSTART;TZID=Pacific/Auckland:20180925T193000
DTEND;TZID=Pacific/Auckland:20180925T204500
URL:https://www.nzohna.org.nz/new-calendar-event/goodfellow-events-vaping-webinar/
SUMMARY:Goodfellow Events - Vaping Webinar - FREE!
END:VEVENT
END:VCALENDAR