BEGIN:VCALENDAR
PRODID:-//www.nzohna.org.nz//EN
VERSION:2.0
METHOD:PUBLISH
BEGIN:VEVENT
DTSTART;TZID=Pacific/Auckland:20181119T090000
DTEND;TZID=Pacific/Auckland:20181120T170000
URL:https://www.nzohna.org.nz/new-calendar-event/5th-melanoma-summit/
SUMMARY:5th Melanoma Summit
END:VEVENT
END:VCALENDAR