BEGIN:VCALENDAR
PRODID:-//www.nzohna.org.nz//EN
VERSION:2.0
METHOD:PUBLISH
BEGIN:VEVENT
DTSTART;TZID=Pacific/Auckland:20190919T083000
DTEND;TZID=Pacific/Auckland:20190920T170000
URL:https://www.nzohna.org.nz/new-calendar-event/nzohna-2019-conference-whangarei/
SUMMARY:NZOHNA 2019 Conference - Whangarei
END:VEVENT
END:VCALENDAR