BEGIN:VCALENDAR
PRODID:-//www.nzohna.org.nz//EN
VERSION:2.0
METHOD:PUBLISH
BEGIN:VEVENT
DTSTART;TZID=Pacific/Auckland:20190307T090000
DTEND;TZID=Pacific/Auckland:20190310T170000
URL:https://www.nzohna.org.nz/new-calendar-event/new-zealand-pain-society-conference-2019/
SUMMARY:New Zealand Pain Society Conference 2019
END:VEVENT
END:VCALENDAR