BEGIN:VCALENDAR
PRODID:-//www.nzohna.org.nz//EN
VERSION:2.0
METHOD:PUBLISH
BEGIN:VEVENT
DTSTART;TZID=Pacific/Auckland:20181007T
DTEND;TZID=Pacific/Auckland:20181010T
URL:https://www.nzohna.org.nz/new-calendar-event/anzsom-annual-scientific-meeting/
SUMMARY:ANZSOM Annual Scientific Meeting
END:VEVENT
END:VCALENDAR