BEGIN:VCALENDAR
PRODID:-//www.nzohna.org.nz//EN
VERSION:2.0
METHOD:PUBLISH
BEGIN:VEVENT
DTSTART;TZID=Pacific/Auckland:20180727T083000
DTEND;TZID=Pacific/Auckland:20180727T170000
URL:https://www.nzohna.org.nz/new-calendar-event/nzohna-and-nzism-shared-cpd-day/
SUMMARY:NZOHNA & NZISM Shared CPD Day
END:VEVENT
END:VCALENDAR