BEGIN:VCALENDAR
PRODID:-//www.nzohna.org.nz//EN
VERSION:2.0
METHOD:PUBLISH
BEGIN:VEVENT
DTSTART;TZID=Pacific/Auckland:20180525T090000
DTEND;TZID=Pacific/Auckland:20180525T150000
URL:https://www.nzohna.org.nz/new-calendar-event/otagosouthland-professional-development-study-day-and-agm/
SUMMARY:Otago/Southland Professional Development Study Day and AGM
END:VEVENT
END:VCALENDAR