BEGIN:VCALENDAR
PRODID:-//www.nzohna.org.nz//EN
VERSION:2.0
METHOD:PUBLISH
BEGIN:VEVENT
DTSTART;TZID=Pacific/Auckland:20180524T150000
DTEND;TZID=Pacific/Auckland:20180524T170000
URL:https://www.nzohna.org.nz/new-calendar-event/taranaki-nzohna-group-workship/
SUMMARY:Taranaki NZOHNA Group Workshop
END:VEVENT
END:VCALENDAR