BEGIN:VCALENDAR
PRODID:-//www.nzohna.org.nz//EN
VERSION:2.0
METHOD:PUBLISH
BEGIN:VEVENT
DTSTART;TZID=Pacific/Auckland:20180614T
DTEND;TZID=Pacific/Auckland:20180614T
URL:https://www.nzohna.org.nz/new-calendar-event/taranaki-nzohna-group-agm/
SUMMARY:Taranaki NZOHNA Group AGM
END:VEVENT
END:VCALENDAR