BEGIN:VCALENDAR
PRODID:-//www.nzohna.org.nz//EN
VERSION:2.0
METHOD:PUBLISH
BEGIN:VEVENT
DTSTART;TZID=Pacific/Auckland:20180629T083000
DTEND;TZID=Pacific/Auckland:20180629T160000
URL:https://www.nzohna.org.nz/new-calendar-event/taranaki-nzohna-group-study-day/
SUMMARY:Taranaki NZOHNA Group Study Day
END:VEVENT
END:VCALENDAR