BEGIN:VCALENDAR
PRODID:-//www.nzohna.org.nz//EN
VERSION:2.0
METHOD:PUBLISH
BEGIN:VEVENT
DTSTART;TZID=Pacific/Auckland:20180712T
DTEND;TZID=Pacific/Auckland:20180712T
URL:https://www.nzohna.org.nz/new-calendar-event/bop-nzohna-group-meeting/
SUMMARY:BOP NZOHNA Group Meeting
END:VEVENT
END:VCALENDAR