BEGIN:VCALENDAR
PRODID:-//www.nzohna.org.nz//EN
VERSION:2.0
METHOD:PUBLISH
BEGIN:VEVENT
DTSTART;TZID=Pacific/Auckland:20180615T100000
DTEND;TZID=Pacific/Auckland:20180615T160000
URL:https://www.nzohna.org.nz/new-calendar-event/nzohna-executive-wellington-meeting/
SUMMARY:NZOHNA Executive Wellington Meeting
END:VEVENT
END:VCALENDAR