BEGIN:VCALENDAR
PRODID:-//www.nzohna.org.nz//EN
VERSION:2.0
METHOD:PUBLISH
BEGIN:VEVENT
DTSTART;TZID=Pacific/Auckland:20180905T
DTEND;TZID=Pacific/Auckland:20180905T
URL:https://www.nzohna.org.nz/new-calendar-event/new-calendar-event-2/
SUMMARY:NZOHNA Wellington Study Day and AGM
END:VEVENT
END:VCALENDAR