BEGIN:VCALENDAR
PRODID:-//www.nzohna.org.nz//EN
VERSION:2.0
METHOD:PUBLISH
BEGIN:VEVENT
DTSTART;TZID=Pacific/Auckland:20180720T123000
DTEND;TZID=Pacific/Auckland:20180720T133000
URL:https://www.nzohna.org.nz/new-calendar-event/nzohna-executive-meeting-via-zoom-2/
SUMMARY:NZOHNA Executive Meeting (via Zoom)
END:VEVENT
END:VCALENDAR