BEGIN:VCALENDAR
PRODID:-//www.nzohna.org.nz//EN
VERSION:2.0
METHOD:PUBLISH
BEGIN:VEVENT
DTSTART;TZID=Pacific/Auckland:20180530T
DTEND;TZID=Pacific/Auckland:20180531T
URL:https://www.nzohna.org.nz/new-calendar-event/safeguard-national-health-and-safety-conference-2018/
SUMMARY:Safeguard National Health & Safety Conference 2018
END:VEVENT
END:VCALENDAR