BEGIN:VCALENDAR
PRODID:-//www.nzohna.org.nz//EN
VERSION:2.0
METHOD:PUBLISH
BEGIN:VEVENT
DTSTART;TZID=Pacific/Auckland:20180327T
DTEND;TZID=Pacific/Auckland:20180328T
URL:https://www.nzohna.org.nz/new-calendar-event/safety-360-conference-2/
SUMMARY:Safety 360 Conferenz
END:VEVENT
END:VCALENDAR